BEGIN:VCALENDAR
VERSION:2.0
PRODID:-//Utah Occupational Therapy Association - ECPv6.15.20//NONSGML v1.0//EN
CALSCALE:GREGORIAN
METHOD:PUBLISH
X-WR-CALNAME:Utah Occupational Therapy Association
X-ORIGINAL-URL:https://utahotassociation.org
X-WR-CALDESC:Events for Utah Occupational Therapy Association
REFRESH-INTERVAL;VALUE=DURATION:PT1H
X-Robots-Tag:noindex
X-PUBLISHED-TTL:PT1H
BEGIN:VTIMEZONE
TZID:America/Denver
BEGIN:DAYLIGHT
TZOFFSETFROM:-0700
TZOFFSETTO:-0600
TZNAME:MDT
DTSTART:20210314T090000
END:DAYLIGHT
BEGIN:STANDARD
TZOFFSETFROM:-0600
TZOFFSETTO:-0700
TZNAME:MST
DTSTART:20211107T080000
END:STANDARD
BEGIN:DAYLIGHT
TZOFFSETFROM:-0700
TZOFFSETTO:-0600
TZNAME:MDT
DTSTART:20220313T090000
END:DAYLIGHT
BEGIN:STANDARD
TZOFFSETFROM:-0600
TZOFFSETTO:-0700
TZNAME:MST
DTSTART:20221106T080000
END:STANDARD
BEGIN:DAYLIGHT
TZOFFSETFROM:-0700
TZOFFSETTO:-0600
TZNAME:MDT
DTSTART:20230312T090000
END:DAYLIGHT
BEGIN:STANDARD
TZOFFSETFROM:-0600
TZOFFSETTO:-0700
TZNAME:MST
DTSTART:20231105T080000
END:STANDARD
END:VTIMEZONE
BEGIN:VEVENT
DTSTART;TZID=America/Denver:20220519T190000
DTEND;TZID=America/Denver:20220519T203000
DTSTAMP:20260423T104859
CREATED:20220303T132737Z
LAST-MODIFIED:20220506T182139Z
UID:10000017-1652986800-1652992200@utahotassociation.org
SUMMARY:UOTA Annual Membership Meeting
DESCRIPTION:UOTA Members\, please save the date for the Annual Membership Meeting! This meeting will be held virtually over Zoom\, to allow all members throughout the state to easily attend. Zoom details have been sent out to all members. If you have not received the emailed announcement with link\, please email: uotavicepresident@gmail.com. We look forward to seeing you at the meeting!
URL:https://utahotassociation.org/event/uota-annual-membership-meeting-2022/
LOCATION:Virtual (Zoom)
END:VEVENT
END:VCALENDAR