BEGIN:VCALENDAR
VERSION:2.0
PRODID:-//Utah Occupational Therapy Association - ECPv6.15.20//NONSGML v1.0//EN
CALSCALE:GREGORIAN
METHOD:PUBLISH
X-WR-CALNAME:Utah Occupational Therapy Association
X-ORIGINAL-URL:https://utahotassociation.org
X-WR-CALDESC:Events for Utah Occupational Therapy Association
REFRESH-INTERVAL;VALUE=DURATION:PT1H
X-Robots-Tag:noindex
X-PUBLISHED-TTL:PT1H
BEGIN:VTIMEZONE
TZID:America/Denver
BEGIN:DAYLIGHT
TZOFFSETFROM:-0700
TZOFFSETTO:-0600
TZNAME:MDT
DTSTART:20230312T090000
END:DAYLIGHT
BEGIN:STANDARD
TZOFFSETFROM:-0600
TZOFFSETTO:-0700
TZNAME:MST
DTSTART:20231105T080000
END:STANDARD
BEGIN:DAYLIGHT
TZOFFSETFROM:-0700
TZOFFSETTO:-0600
TZNAME:MDT
DTSTART:20240310T090000
END:DAYLIGHT
BEGIN:STANDARD
TZOFFSETFROM:-0600
TZOFFSETTO:-0700
TZNAME:MST
DTSTART:20241103T080000
END:STANDARD
BEGIN:DAYLIGHT
TZOFFSETFROM:-0700
TZOFFSETTO:-0600
TZNAME:MDT
DTSTART:20250309T090000
END:DAYLIGHT
BEGIN:STANDARD
TZOFFSETFROM:-0600
TZOFFSETTO:-0700
TZNAME:MST
DTSTART:20251102T080000
END:STANDARD
END:VTIMEZONE
BEGIN:VEVENT
DTSTART;TZID=America/Denver:20240126T083000
DTEND;TZID=America/Denver:20240126T160000
DTSTAMP:20260423T121042
CREATED:20231030T140120Z
LAST-MODIFIED:20240124T181217Z
UID:10000114-1706257800-1706284800@utahotassociation.org
SUMMARY:Beyond Dysregulation: Sensory Integration Foundations for Participation
DESCRIPTION:  \nDr. Kelly Auld-Wright\, OTD\, OTR/L from The Collaborative for Leadership in Ayres Sensory Integration® \nDate: Friday\, January 26\, 2024 \nTime: 8:30 check-in; instruction 9 am-12 pm and 1-4 pm; Lunch 12-1 pm (6 CEUs) \nLocation: Provo City School District Professional Development Center; 280 W 940 N\, Provo\, UT 84604 \nCourse Objectives  \nFollowing this course learners will be able to: \n\nIdentify the differences between sensory reactivity and sensory perception\nUnderstand Ayres Sensory Integration® (ASI) theory and patterns of SI challenges\nRecognize how sensory integrative challenges may influence occupation and participation challenges\nIdentify assessment tools to assess sensory functions and have a basic understanding of how to interpret assessment data to develop occupation centered goals and intervention plans\nDesign individually tailored intervention plans\, rooted in ASI\nDiscuss current evidence for ASI and consider how to advocate for this approach with stakeholders\n\n  \nRegistration is now closed. If you have any questions\, please email Travis Chamberlain at Travis.Chamberlain@Utah.edu. \n 
URL:https://utahotassociation.org/event/beyond-dysregulation-sensory-integration-foundations-for-participation/
LOCATION:Provo City School District Professional Development Center\, 280 W 940 N\, Provo\, UT\, 84604\, United States
END:VEVENT
END:VCALENDAR