BEGIN:VCALENDAR
VERSION:2.0
PRODID:-//Utah Occupational Therapy Association - ECPv6.15.20//NONSGML v1.0//EN
CALSCALE:GREGORIAN
METHOD:PUBLISH
X-WR-CALNAME:Utah Occupational Therapy Association
X-ORIGINAL-URL:https://utahotassociation.org
X-WR-CALDESC:Events for Utah Occupational Therapy Association
REFRESH-INTERVAL;VALUE=DURATION:PT1H
X-Robots-Tag:noindex
X-PUBLISHED-TTL:PT1H
BEGIN:VTIMEZONE
TZID:America/Denver
BEGIN:DAYLIGHT
TZOFFSETFROM:-0700
TZOFFSETTO:-0600
TZNAME:MDT
DTSTART:20180311T090000
END:DAYLIGHT
BEGIN:STANDARD
TZOFFSETFROM:-0600
TZOFFSETTO:-0700
TZNAME:MST
DTSTART:20181104T080000
END:STANDARD
BEGIN:DAYLIGHT
TZOFFSETFROM:-0700
TZOFFSETTO:-0600
TZNAME:MDT
DTSTART:20190310T090000
END:DAYLIGHT
BEGIN:STANDARD
TZOFFSETFROM:-0600
TZOFFSETTO:-0700
TZNAME:MST
DTSTART:20191103T080000
END:STANDARD
BEGIN:DAYLIGHT
TZOFFSETFROM:-0700
TZOFFSETTO:-0600
TZNAME:MDT
DTSTART:20200308T090000
END:DAYLIGHT
BEGIN:STANDARD
TZOFFSETFROM:-0600
TZOFFSETTO:-0700
TZNAME:MST
DTSTART:20201101T080000
END:STANDARD
END:VTIMEZONE
BEGIN:VEVENT
DTSTART;VALUE=DATE:20190712
DTEND;VALUE=DATE:20190714
DTSTAMP:20260423T070113
CREATED:20190704T121255Z
LAST-MODIFIED:20190704T121255Z
UID:10000061-1562889600-1563062399@utahotassociation.org
SUMMARY:PUSH Training Modules
DESCRIPTION:  \nNote: This is not a UOTA event. Please register at the PUSH Trainings Utah website: https://www.pushtherapyutah.com/module-1-registration \nEarn 16 CEUs for each 2 day Module \nHow many modules are there?\nThere are 5 PUSH Training Modules and 1 PUSH Certification Module. \n  \nWhat will be covered in each module?\nMODULE 1: Lower Body: Hip Lateral and Medial Treatment and Training\nMODULE 2: Upper Body Treatment and Training\nMODULE 3: Lower body: Posterior and Anterior thighs and lower legs with treatment and training.\nMODULE 4: Explore the Core\, Treatment and Training\nMODULE 5: Extremities\, Hand\, Feet\, Jaw\, Neck and Self Treatment\, PUSH Protocol\n* MODULE 6: PUSH Certification Practicum \n  \nHow long is each module?\nEach module will be 2 days long starting on a Friday morning and ending on Saturday evening. \n  \nWhat is the cost?\nFull Tuition for modules 1-5 …………$400.00 each.\nEarly Bird Discount ……………………..$375.00*\n​\nPackage deal for modules 1-5 ……. $1700.00 total.\n​\n* PUSH Certification Practicum.. …. $500.00.\n​\n*Early Bird Discounts are offered for each individual module if full tuition is received at least 2 weeks prior to training. ( For module 1\, payment is due by June 28th to qualify for discount.)\n* Or\, put a $100.00 down payment 1 month prior to training and pay the rest at the door to receive early bird discount. \n  \nWhen do the modules begin?\nModule 1: July 12-13\, 2019 \n  \nWhat can I expect to learn in Module 1?\nModule 1 covers: \nHip tightness and pain\, IT band tension and pain and medial thigh tension and pain \nWe will explore how to reverse tension-creating postures and compensatory patterns in the lower body. \nYou will learn how to use your core while you work and teach clients to do the same in their occupations. \nYou will learn specific Tension Release Treatments as well as Tension Release Trainings that build strong\, yet supple\, elongated muscles that can work all day without pain and stiffness. \n  \nClass Schedules:\nMODULE 1: July 2019 ( Lower Body 1)\nFriday\, July 12……………………..9 AM-6 PM\nSaturday\, July 13………………….8 AM-5 PM \nMODULE 2: September 2019 (Upper Body)\nFriday\, Sept 13……………………….9 AM-6 PM\nSaturday\, Sept 14……………………8 AM- 5 PM\n​\nMODULE 3: November 2019 (Lower Body 2)\n​Friday\, Nov. 8……………………….9 AM-6 PM\nSaturday\, Nov. 9……………………8 AM-6 PM​​ \nModules 4-6 will be in early 2020\nDate TBD \n  \nLocation\nHOLIDAY INN EXPRESS & SUITES \n712 South Utah Valley Drive\, American Fork\, Utah 84003 \n801-763-8500 \n​Hotel Rates are $110 per night if you tell them you are with PUSH Trainings \n  \nREGISTER AT PUSH TRAININGS UTAH WEBSITE: https://www.pushtherapyutah.com/module-1-registration
URL:https://utahotassociation.org/event/push-training-modules/
LOCATION:Holiday Inn Express & Suites\, 712 South Utah Valley Drive\, American Fork\, UT\, 84003\, United States
ORGANIZER;CN="PUSH Trainings Utah":MAILTO:jen@pushtherapyutah.com
END:VEVENT
END:VCALENDAR