BEGIN:VCALENDAR
VERSION:2.0
PRODID:-//Utah Occupational Therapy Association - ECPv6.15.20//NONSGML v1.0//EN
CALSCALE:GREGORIAN
METHOD:PUBLISH
X-ORIGINAL-URL:https://utahotassociation.org
X-WR-CALDESC:Events for Utah Occupational Therapy Association
REFRESH-INTERVAL;VALUE=DURATION:PT1H
X-Robots-Tag:noindex
X-PUBLISHED-TTL:PT1H
BEGIN:VTIMEZONE
TZID:America/Denver
BEGIN:DAYLIGHT
TZOFFSETFROM:-0700
TZOFFSETTO:-0600
TZNAME:MDT
DTSTART:20170312T090000
END:DAYLIGHT
BEGIN:STANDARD
TZOFFSETFROM:-0600
TZOFFSETTO:-0700
TZNAME:MST
DTSTART:20171105T080000
END:STANDARD
BEGIN:DAYLIGHT
TZOFFSETFROM:-0700
TZOFFSETTO:-0600
TZNAME:MDT
DTSTART:20180311T090000
END:DAYLIGHT
BEGIN:STANDARD
TZOFFSETFROM:-0600
TZOFFSETTO:-0700
TZNAME:MST
DTSTART:20181104T080000
END:STANDARD
BEGIN:DAYLIGHT
TZOFFSETFROM:-0700
TZOFFSETTO:-0600
TZNAME:MDT
DTSTART:20190310T090000
END:DAYLIGHT
BEGIN:STANDARD
TZOFFSETFROM:-0600
TZOFFSETTO:-0700
TZNAME:MST
DTSTART:20191103T080000
END:STANDARD
END:VTIMEZONE
BEGIN:VEVENT
DTSTART;TZID=America/Denver:20180607T083000
DTEND;TZID=America/Denver:20180608T170000
DTSTAMP:20260423T180843
CREATED:20180515T222835Z
LAST-MODIFIED:20180515T222835Z
UID:10000050-1528360200-1528477200@utahotassociation.org
SUMMARY:Positive Approach to Care Trainer Certification
DESCRIPTION:Would you like to be recognized as a credible source for dementia related training?  \nBecome a Trainer in Teepa Snow’s Positive Approach® to Care Philosophy. \nJoin them for their 2-day Trainer Certification and begin the process of becoming a PAC Certified Independent Trainer. \nThis certification is designed for individuals who wish to train others in the PAC philosophy providing dementia related awareness\, knowledge\, and skill development in a classroom\, support group\, or community setting. \n\n\nDownload the flyer here. \n  \nTO REGISTER: \nPositive Approach to Care (PAC) Trainer Certification Registration Link \nCoordinator: 678-772-0958 \nregistration@teepasnow.com \n\n  \nCourse: Limited to 25 participants \nFee: $1\,600 USD \n  \nParticipants learn to train a curriculum with: \n Workshop A ~ Normal Aging / Not Normal Aging  \n Workshop B ~ Positive Physical Approach™ and Hand-Under-Hand®  \n Workshop C ~ Teepa’s Gems®; Experience Skills that Make a Difference  \n  \nRecommended for:  \nStaff Education Directors\, Senior Living Advisors\, Social Workers\, Geriatric Care Managers\, Support Group Leaders\, Faith-based Leaders\, and Nurse Educators
URL:https://utahotassociation.org/event/positive-approach-to-care-trainer-certification/
LOCATION:University of Utah\, 501 Chipeta Way\, Salt Lake City\, UT\, 84108\, United States
ORGANIZER;CN="Positive Approach to Care":MAILTO:info@teepasnow.com
END:VEVENT
END:VCALENDAR