BEGIN:VCALENDAR
VERSION:2.0
PRODID:-//Utah Occupational Therapy Association - ECPv6.15.20//NONSGML v1.0//EN
CALSCALE:GREGORIAN
METHOD:PUBLISH
X-WR-CALNAME:Utah Occupational Therapy Association
X-ORIGINAL-URL:https://utahotassociation.org
X-WR-CALDESC:Events for Utah Occupational Therapy Association
REFRESH-INTERVAL;VALUE=DURATION:PT1H
X-Robots-Tag:noindex
X-PUBLISHED-TTL:PT1H
BEGIN:VTIMEZONE
TZID:America/Denver
BEGIN:DAYLIGHT
TZOFFSETFROM:-0700
TZOFFSETTO:-0600
TZNAME:MDT
DTSTART:20170312T090000
END:DAYLIGHT
BEGIN:STANDARD
TZOFFSETFROM:-0600
TZOFFSETTO:-0700
TZNAME:MST
DTSTART:20171105T080000
END:STANDARD
BEGIN:DAYLIGHT
TZOFFSETFROM:-0700
TZOFFSETTO:-0600
TZNAME:MDT
DTSTART:20180311T090000
END:DAYLIGHT
BEGIN:STANDARD
TZOFFSETFROM:-0600
TZOFFSETTO:-0700
TZNAME:MST
DTSTART:20181104T080000
END:STANDARD
BEGIN:DAYLIGHT
TZOFFSETFROM:-0700
TZOFFSETTO:-0600
TZNAME:MDT
DTSTART:20190310T090000
END:DAYLIGHT
BEGIN:STANDARD
TZOFFSETFROM:-0600
TZOFFSETTO:-0700
TZNAME:MST
DTSTART:20191103T080000
END:STANDARD
END:VTIMEZONE
BEGIN:VEVENT
DTSTART;VALUE=DATE:20181024
DTEND;VALUE=DATE:20181025
DTSTAMP:20260423T085519
CREATED:20180827T165959Z
LAST-MODIFIED:20180827T170203Z
UID:10000057-1540339200-1540425599@utahotassociation.org
SUMMARY:National Alliance on Mental Illness Annual Conference
DESCRIPTION:“Building a Solid Foundation for Life”\n\nDr. Brian C. Miller\, Keynote Speaker. “Stronger in the Broken Places: Foundations of Wellness\n“Whether you are experiencing a serious mental illness\, or are a family member of someone who is; the foundation of wellness is realizing that it is possible even with symptoms\, even with problems\, even with an uncertain course. Everyone\, as Hemingway said\, is broken. But some of us get stronger in the broken places. This presentation will focus on what we know about the foundations for living well with a serious mental illness. Everything changes when we realize that what makes a life of wellness for a person with a mental illness is no different than what makes anyone’s life whole. The key is to avoid becoming hypnotized into focusing exclusively on the illness. And isn’t that what recovery is all about?” \nFor more details\, visit https://www.namiut.org/news-and-events/nami-utah-state-conference.
URL:https://utahotassociation.org/event/national-alliance-on-mental-illness-annual-conference/
LOCATION:SLCC Miller Campus\, 9750 300 W\, Sandy\, UT\, 84070\, United States
END:VEVENT
END:VCALENDAR