BEGIN:VCALENDAR
VERSION:2.0
PRODID:-//Utah Occupational Therapy Association - ECPv6.15.20//NONSGML v1.0//EN
CALSCALE:GREGORIAN
METHOD:PUBLISH
X-WR-CALNAME:Utah Occupational Therapy Association
X-ORIGINAL-URL:https://utahotassociation.org
X-WR-CALDESC:Events for Utah Occupational Therapy Association
REFRESH-INTERVAL;VALUE=DURATION:PT1H
X-Robots-Tag:noindex
X-PUBLISHED-TTL:PT1H
BEGIN:VTIMEZONE
TZID:America/Denver
BEGIN:DAYLIGHT
TZOFFSETFROM:-0700
TZOFFSETTO:-0600
TZNAME:MDT
DTSTART:20170312T090000
END:DAYLIGHT
BEGIN:STANDARD
TZOFFSETFROM:-0600
TZOFFSETTO:-0700
TZNAME:MST
DTSTART:20171105T080000
END:STANDARD
BEGIN:DAYLIGHT
TZOFFSETFROM:-0700
TZOFFSETTO:-0600
TZNAME:MDT
DTSTART:20180311T090000
END:DAYLIGHT
BEGIN:STANDARD
TZOFFSETFROM:-0600
TZOFFSETTO:-0700
TZNAME:MST
DTSTART:20181104T080000
END:STANDARD
BEGIN:DAYLIGHT
TZOFFSETFROM:-0700
TZOFFSETTO:-0600
TZNAME:MDT
DTSTART:20190310T090000
END:DAYLIGHT
BEGIN:STANDARD
TZOFFSETFROM:-0600
TZOFFSETTO:-0700
TZNAME:MST
DTSTART:20191103T080000
END:STANDARD
END:VTIMEZONE
BEGIN:VEVENT
DTSTART;VALUE=DATE:20180110
DTEND;VALUE=DATE:20180113
DTSTAMP:20260423T052051
CREATED:20170804T145750Z
LAST-MODIFIED:20170804T145750Z
UID:10000039-1515542400-1515801599@utahotassociation.org
SUMMARY:Evaluation of Social Interaction (ESI) Course
DESCRIPTION:Occupational Therapy continuing education course taught by Anne Fisher for the Evaluation of Social Interaction (ESI) tool developed by Anne Fisher. Learn to administer one of their innovative\, occupation-based assessments. In addition to teaching you how to administer the tool reliably\, their courses will provide you with the practical skills needed to use the assessment results to plan intervention\, set goals\, document\, and plan for re-evaluation — all while remaining occupation-centered. \nUpon successful completion of an ESI training course and successful completion of rater calibration requirements\, the occupational therapist will be able to: \n\n\n\nExplain how social interaction supports engagement in all areas of occupation and is relevant for occupational therapy\nUnderstand the theoretical foundation for using the ESI to promote client-centered and occupation-based practice\nAdminister\, score\, and interpret the ESI in a valid and reliable manner.\nUse the ESI to plan and guide occupational therapy intervention (both direct and consultative services)\nUse the ESI to evaluate the effectiveness of provided occupational therapy interventions\n\n\n\nPrice: $795 OTs\, $475 CSU OT Students\, $635 Non-CSU OT Students \nClick here to register.
URL:https://utahotassociation.org/event/evaluation-of-social-interaction-esi-course/
LOCATION:CSU Fort Collins\, Colorado\, Department of Occupational Therapy Building\, Room 103\, 800 Oval Drive\, Fort Collins\, CO\, 80523\, United States
END:VEVENT
END:VCALENDAR